BEGIN:VCALENDAR
VERSION:2.0
PRODID:-//NMD Hoard - ECPv6.15.20//NONSGML v1.0//EN
CALSCALE:GREGORIAN
METHOD:PUBLISH
X-ORIGINAL-URL:https://nmdhoard.com
X-WR-CALDESC:Events for NMD Hoard
REFRESH-INTERVAL;VALUE=DURATION:PT1H
X-Robots-Tag:noindex
X-PUBLISHED-TTL:PT1H
BEGIN:VTIMEZONE
TZID:Australia/Sydney
BEGIN:STANDARD
TZOFFSETFROM:+1100
TZOFFSETTO:+1000
TZNAME:AEST
DTSTART:20250405T160000
END:STANDARD
BEGIN:DAYLIGHT
TZOFFSETFROM:+1000
TZOFFSETTO:+1100
TZNAME:AEDT
DTSTART:20251004T160000
END:DAYLIGHT
BEGIN:STANDARD
TZOFFSETFROM:+1100
TZOFFSETTO:+1000
TZNAME:AEST
DTSTART:20260404T160000
END:STANDARD
BEGIN:DAYLIGHT
TZOFFSETFROM:+1000
TZOFFSETTO:+1100
TZNAME:AEDT
DTSTART:20261003T160000
END:DAYLIGHT
BEGIN:STANDARD
TZOFFSETFROM:+1100
TZOFFSETTO:+1000
TZNAME:AEST
DTSTART:20270403T160000
END:STANDARD
BEGIN:DAYLIGHT
TZOFFSETFROM:+1000
TZOFFSETTO:+1100
TZNAME:AEDT
DTSTART:20271002T160000
END:DAYLIGHT
END:VTIMEZONE
BEGIN:VEVENT
DTSTART;TZID=Australia/Sydney:20260207T090000
DTEND;TZID=Australia/Sydney:20260208T173000
DTSTAMP:20260414T065724
CREATED:20251203T084816Z
LAST-MODIFIED:20251220T212049Z
UID:653-1770454800-1770571800@nmdhoard.com
SUMMARY:Sydney Bowl 11's - 7
DESCRIPTION:Sydney Bowl 11s\n\n\n5 Rounds  | Waratah Series | NAF approved\n\n\n\nFebruary 7 – February 8\nClub Ashfield\n\n$50 (2 days) including event gift and 1 raffle ticket.$30 (1 day only) including event gift.\n\nFirst time Sydney Bowl coaches will also receive a free custom OG BLACK or WHITE d6 dice set and an additional 5 raffles tickets.\n\nSydney Bowl merch. will be available to purchase on the day.\n\nRosters must be submitted by no later than 1 week prior to the event to sydneybowl@outlook.com.au
URL:https://nmdhoard.com/event/sydney-bowl-11s-7/
CATEGORIES:Bloodbowl / Fantasy Football Events
END:VEVENT
END:VCALENDAR