BEGIN:VCALENDAR
VERSION:2.0
PRODID:-//NMD Hoard - ECPv6.15.20//NONSGML v1.0//EN
CALSCALE:GREGORIAN
METHOD:PUBLISH
X-WR-CALNAME:NMD Hoard
X-ORIGINAL-URL:https://nmdhoard.com
X-WR-CALDESC:Events for NMD Hoard
REFRESH-INTERVAL;VALUE=DURATION:PT1H
X-Robots-Tag:noindex
X-PUBLISHED-TTL:PT1H
BEGIN:VTIMEZONE
TZID:Australia/Sydney
BEGIN:STANDARD
TZOFFSETFROM:+1100
TZOFFSETTO:+1000
TZNAME:AEST
DTSTART:20240406T160000
END:STANDARD
BEGIN:DAYLIGHT
TZOFFSETFROM:+1000
TZOFFSETTO:+1100
TZNAME:AEDT
DTSTART:20241005T160000
END:DAYLIGHT
BEGIN:STANDARD
TZOFFSETFROM:+1100
TZOFFSETTO:+1000
TZNAME:AEST
DTSTART:20250405T160000
END:STANDARD
BEGIN:DAYLIGHT
TZOFFSETFROM:+1000
TZOFFSETTO:+1100
TZNAME:AEDT
DTSTART:20251004T160000
END:DAYLIGHT
BEGIN:STANDARD
TZOFFSETFROM:+1100
TZOFFSETTO:+1000
TZNAME:AEST
DTSTART:20260404T160000
END:STANDARD
BEGIN:DAYLIGHT
TZOFFSETFROM:+1000
TZOFFSETTO:+1100
TZNAME:AEDT
DTSTART:20261003T160000
END:DAYLIGHT
BEGIN:STANDARD
TZOFFSETFROM:+1100
TZOFFSETTO:+1000
TZNAME:AEST
DTSTART:20270403T160000
END:STANDARD
BEGIN:DAYLIGHT
TZOFFSETFROM:+1000
TZOFFSETTO:+1100
TZNAME:AEDT
DTSTART:20271002T160000
END:DAYLIGHT
END:VTIMEZONE
BEGIN:VEVENT
DTSTART;TZID=Australia/Sydney:20260207T090000
DTEND;TZID=Australia/Sydney:20260208T173000
DTSTAMP:20260414T070119
CREATED:20251203T084816Z
LAST-MODIFIED:20251220T212049Z
UID:653-1770454800-1770571800@nmdhoard.com
SUMMARY:Sydney Bowl 11's - 7
DESCRIPTION:Sydney Bowl 11s\n\n\n5 Rounds  | Waratah Series | NAF approved\n\n\n\nFebruary 7 – February 8\nClub Ashfield\n\n$50 (2 days) including event gift and 1 raffle ticket.$30 (1 day only) including event gift.\n\nFirst time Sydney Bowl coaches will also receive a free custom OG BLACK or WHITE d6 dice set and an additional 5 raffles tickets.\n\nSydney Bowl merch. will be available to purchase on the day.\n\nRosters must be submitted by no later than 1 week prior to the event to sydneybowl@outlook.com.au
URL:https://nmdhoard.com/event/sydney-bowl-11s-7/
CATEGORIES:Bloodbowl / Fantasy Football Events
END:VEVENT
BEGIN:VEVENT
DTSTART;TZID=Australia/Sydney:20251129T090000
DTEND;TZID=Australia/Sydney:20251129T200000
DTSTAMP:20260414T070119
CREATED:20251115T071609Z
LAST-MODIFIED:20251220T212106Z
UID:582-1764406800-1764446400@nmdhoard.com
SUMMARY:Coastal Karnage - Blood Bowl 11's Tournament
DESCRIPTION:The Inaugural Coastal Karnage 11s Tournament is here!!\n\n\n4 Rounds  | Waratah Series | NAF approved\n\n\n\nTons of prizes and entry goodies from our spectacular sponsor pool.\n\n\n\n\nCoach’s Pack: https://drive.google.com/…/15iSmhjuTO2Ei8WoDqlR…/view…\n\n\n\n\nRegistration for Tourplay: Registration dates extended to 23rd November\, 2023\nhttps://tourplay.net/en/blood-bowl/coastal-karnage-11s\n\n\n\n\nEntry payment: $30 – warzonecentralcoast@gmail.com\n\n\nN.B: Only paid entry guarantees a spot. Spots are limited to the first 50 entries.\n\n\n\nSponsors:\nCCBG Club\n216 Designs Youngs Customs\nNMD Hoard\nElemental Arcade\nJester Prints\nThe Game Arena\nVrinat Hobbies & Games
URL:https://nmdhoard.com/event/coastal-karnage-blood-bowl-11s-tournament/
LOCATION:Central Coast Leagues Club\, 1 Dane Drive\, GOSFORD\, NSW\, 2250\, Australia
CATEGORIES:Bloodbowl / Fantasy Football Events
ATTACH;FMTTYPE=image/png:https://nmdhoard.com/wp-content/uploads/2025/11/ck-event-banner-still.png
ORGANIZER;CN="War Zone Central Coast":MAILTO:warzonecentralcoast@gmail.com
END:VEVENT
BEGIN:VEVENT
DTSTART;VALUE=DATE:20251123
DTEND;VALUE=DATE:20251124
DTSTAMP:20260414T070119
CREATED:20251115T075636Z
LAST-MODIFIED:20251220T212114Z
UID:608-1763856000-1763942399@nmdhoard.com
SUMMARY:Collector Con - Penrith
DESCRIPTION:Collector Con in Penrith\n\n\nThere will be over 400 tables full of toy\, hobby and pop culture collectables across three halls. Think modern and vintage action figures\, trading cards\, comics\, dolls\, diecast and model cars\, LEGO\, plush\, artist alley\, coins\, POPS\, pins and more… \nPlus\, activations return\, including professional wrestlers\, tabletop roleplay gaming\, fan groups\, cosplay and a TCG Tournament. \nDate: Sunday\, 23 November 2025\nTime: 9.30am – 2.30pm\nLocation: Penrith Valley Regional Sports Centre\, 30 Herbert Street\, Cambridge Park NSW
URL:https://nmdhoard.com/event/collector-con-penrith-november-2025/
LOCATION:Penrith Valley Regional Sports Centre\, 30 Herbert Street\, Cambridge Park\, NSW\, 2747\, Australia
CATEGORIES:Convention / Expo
ATTACH;FMTTYPE=image/png:https://nmdhoard.com/wp-content/uploads/2025/11/collector-con.png
END:VEVENT
END:VCALENDAR