BEGIN:VCALENDAR
VERSION:2.0
PRODID:-//NMD Hoard - ECPv6.15.20//NONSGML v1.0//EN
CALSCALE:GREGORIAN
METHOD:PUBLISH
X-ORIGINAL-URL:https://nmdhoard.com
X-WR-CALDESC:Events for NMD Hoard
REFRESH-INTERVAL;VALUE=DURATION:PT1H
X-Robots-Tag:noindex
X-PUBLISHED-TTL:PT1H
BEGIN:VTIMEZONE
TZID:Australia/Sydney
BEGIN:STANDARD
TZOFFSETFROM:+1100
TZOFFSETTO:+1000
TZNAME:AEST
DTSTART:20250405T160000
END:STANDARD
BEGIN:DAYLIGHT
TZOFFSETFROM:+1000
TZOFFSETTO:+1100
TZNAME:AEDT
DTSTART:20251004T160000
END:DAYLIGHT
BEGIN:STANDARD
TZOFFSETFROM:+1100
TZOFFSETTO:+1000
TZNAME:AEST
DTSTART:20260404T160000
END:STANDARD
BEGIN:DAYLIGHT
TZOFFSETFROM:+1000
TZOFFSETTO:+1100
TZNAME:AEDT
DTSTART:20261003T160000
END:DAYLIGHT
BEGIN:STANDARD
TZOFFSETFROM:+1100
TZOFFSETTO:+1000
TZNAME:AEST
DTSTART:20270403T160000
END:STANDARD
BEGIN:DAYLIGHT
TZOFFSETFROM:+1000
TZOFFSETTO:+1100
TZNAME:AEDT
DTSTART:20271002T160000
END:DAYLIGHT
END:VTIMEZONE
BEGIN:VEVENT
DTSTART;TZID=Australia/Sydney:20260314T090000
DTEND;TZID=Australia/Sydney:20260315T170000
DTSTAMP:20260414T065354
CREATED:20251115T080134Z
LAST-MODIFIED:20251220T212041Z
UID:610-1773478800-1773594000@nmdhoard.com
SUMMARY:Collect Fest - Sydney 2025
DESCRIPTION:CollectFest is Australia’s first and only festival for all things collectable!\nNMD Hoard Pop Up Location\nBringing passionate hobbyists all together under one roof\, you’ll find everything from sneakers and trading cards to coins\, comics and more.  It’s a must-visit event to find\, trade and sell – everything to complete your unique collection.
URL:https://nmdhoard.com/event/collect-fest-sydney-2025/
LOCATION:International Convention Centre Sydney\, 14 Darling Drive\, Darling Harbour\, Sydney\, NSW\, 2000\, Australia
ATTACH;FMTTYPE=image/png:https://nmdhoard.com/wp-content/uploads/2025/11/collect-fest.png
END:VEVENT
END:VCALENDAR